BEGIN:VCALENDAR
VERSION:2.0
PRODID:-//wp-events-plugin.com//7.2.3.1//EN
TZID:Europe/Berlin
X-WR-TIMEZONE:Europe/Berlin
BEGIN:VEVENT
UID:489@reisedepeschen.de
DTSTART;TZID=Europe/Berlin:20260424T190000
DTEND;TZID=Europe/Berlin:20260424T210000
DTSTAMP:20260422T103138Z
URL:https://www.reisedepeschen.de/events/gruss-aus-dem-land-der-kirschblue
 hten/
SUMMARY:Gruß aus dem Land der Kirschblühten
DESCRIPTION:Abendmusik speziell : ein japanischer Abend im Christophorushau
 s\n\nMan hat schon mal Berichte gehört oder Bilder gesehen vom weitentfer
 nten östlichen Land : JAPAN\nAn diesem Abend können Sie kurzweile nach f
 ern Osten verreisen und erfahren Sie die Kultur und das Leben mit der kuli
 narischen Überraschung Volkslieder\, Kunstlieder\, J-Pop\, Filmmusik\, Sc
 hlager aus Japan\n\nMitwirkende: Anna Katharina Sanner (Lesung)\n*Kahori G
 oto\, Madoka Sakai\, Sakurako Tokuda (Sopran) Yuta Wakasa (Tenor) Lukas R
 ühe (Bariton) Makiko Eguchi (Klavier\, Leitung)\n\nDer Eintritt ist frei
ATTACH;FMTTYPE=image/jpeg:https://www.reisedepeschen.de/wp-content/uploads
 /2026/04/Bildschirmfoto-2026-04-22-um-12.29.43.png
CATEGORIES:Anna Sanner
LOCATION:Christophorushaus\, Anna-Susanna-Stieg 10\, Hamburg\, 22457\, Deut
 schland
X-APPLE-STRUCTURED-LOCATION;VALUE=URI;X-ADDRESS=Anna-Susanna-Stieg 10\, Ham
 burg\, 22457\, Deutschland;X-APPLE-RADIUS=100;X-TITLE=Christophorushaus:ge
 o:0,0
END:VEVENT
BEGIN:VTIMEZONE
TZID:Europe/Berlin
X-LIC-LOCATION:Europe/Berlin
BEGIN:DAYLIGHT
DTSTART:20260329T030000
TZOFFSETFROM:+0100
TZOFFSETTO:+0200
TZNAME:CEST
END:DAYLIGHT
END:VTIMEZONE
END:VCALENDAR